BEGIN:VCALENDAR
VERSION:2.0
PRODID:-//City of Blue Lake - ECPv6.15.20//NONSGML v1.0//EN
CALSCALE:GREGORIAN
METHOD:PUBLISH
X-WR-CALNAME:City of Blue Lake
X-ORIGINAL-URL:https://bluelake.ca.gov
X-WR-CALDESC:Events for City of Blue Lake
REFRESH-INTERVAL;VALUE=DURATION:PT1H
X-Robots-Tag:noindex
X-PUBLISHED-TTL:PT1H
BEGIN:VTIMEZONE
TZID:America/Los_Angeles
BEGIN:DAYLIGHT
TZOFFSETFROM:-0800
TZOFFSETTO:-0700
TZNAME:PDT
DTSTART:20220313T100000
END:DAYLIGHT
BEGIN:STANDARD
TZOFFSETFROM:-0700
TZOFFSETTO:-0800
TZNAME:PST
DTSTART:20221106T090000
END:STANDARD
BEGIN:DAYLIGHT
TZOFFSETFROM:-0800
TZOFFSETTO:-0700
TZNAME:PDT
DTSTART:20230312T100000
END:DAYLIGHT
BEGIN:STANDARD
TZOFFSETFROM:-0700
TZOFFSETTO:-0800
TZNAME:PST
DTSTART:20231105T090000
END:STANDARD
BEGIN:DAYLIGHT
TZOFFSETFROM:-0800
TZOFFSETTO:-0700
TZNAME:PDT
DTSTART:20240310T100000
END:DAYLIGHT
BEGIN:STANDARD
TZOFFSETFROM:-0700
TZOFFSETTO:-0800
TZNAME:PST
DTSTART:20241103T090000
END:STANDARD
END:VTIMEZONE
BEGIN:VEVENT
DTSTART;TZID=America/Los_Angeles:20230725T180000
DTEND;TZID=America/Los_Angeles:20230725T200000
DTSTAMP:20260423T164710
CREATED:20230922T045504Z
LAST-MODIFIED:20230922T045504Z
UID:10002953-1690308000-1690315200@bluelake.ca.gov
SUMMARY:Walk With Dan Burden in Our Neighborhoods: McKinleyville Presentation
DESCRIPTION:Active transportation expert\, walkability innovator\, community well-being advocate\, walker\, and bicyclist. \nWhere: The Center at McKinleyville\, 1615 Heartwood Dr \nFocus: McKinleyville Town Center\, Central Avenue\, road diets. \nSponsored by the City of Arcata\, City of Blue Lake\, City of Eureka\, County of Humboldt\, & Humboldt County Association of Governments (HCAOG). Partial funding from the State’s Regional Early Action Planning Grant Program. \nLearn more about why walkability matters by Dan Burden.
URL:https://bluelake.ca.gov/event/walk-with-dan-burden-in-our-neighborhoods-mckinleyville-presentation/
LOCATION:McKinleyville\, CA\, McKinleyville\, CA\, 95519\, United States
CATEGORIES:Humboldt County Events
ATTACH;FMTTYPE=image/jpeg:https://bluelake.ca.gov/wp-content/uploads/2023/09/dan-burden-walkability-expert.jpg
END:VEVENT
BEGIN:VEVENT
DTSTART;TZID=America/Los_Angeles:20230725T143000
DTEND;TZID=America/Los_Angeles:20230725T153000
DTSTAMP:20260423T164710
CREATED:20230922T045335Z
LAST-MODIFIED:20230922T045335Z
UID:10002952-1690295400-1690299000@bluelake.ca.gov
SUMMARY:Walk With Dan Burden in Our Neighborhoods: Blue Lake Presentation
DESCRIPTION:Active transportation expert\, walkability innovator\, community well-being advocate\, walker\, and bicyclist. \nMeet at City Hall parking lot\, 111 Greenwood Ave. \nSponsored by the City of Arcata\, City of Blue Lake\, City of Eureka\, County of Humboldt\, & Humboldt County Association of Governments (HCAOG). Partial funding from the State’s Regional Early Action Planning Grant Program. \nCity of Blue Lake contact:\nAmanda Mager\n(707) 668-5655\ncitymanager@bluelake.ca.gov  \nLearn more about why walkability matters by Dan Burden.
URL:https://bluelake.ca.gov/event/walk-with-dan-burden-in-our-neighborhoods-blue-lake-presentation/
LOCATION:Skinner Store\, 111 Greenwood Rd\, Blue Lake\, CA\, 95525\, United States
CATEGORIES:Blue Lake Events,Humboldt County Events
ATTACH;FMTTYPE=image/jpeg:https://bluelake.ca.gov/wp-content/uploads/2023/09/dan-burden-walkability-expert.jpg
END:VEVENT
BEGIN:VEVENT
DTSTART;TZID=America/Los_Angeles:20230725T120000
DTEND;TZID=America/Los_Angeles:20230725T130000
DTSTAMP:20260423T164710
CREATED:20230922T045239Z
LAST-MODIFIED:20230922T045239Z
UID:10002951-1690286400-1690290000@bluelake.ca.gov
SUMMARY:Walk With Dan Burden in Our Neighborhoods: Blue Lake Walk Audit
DESCRIPTION:Active transportation expert\, walkability innovator\, community well-being advocate\, walker\, and bicyclist. \nMeet at City Hall parking lot\, 111 Greenwood Ave. \nSponsored by the City of Arcata\, City of Blue Lake\, City of Eureka\, County of Humboldt\, & Humboldt County Association of Governments (HCAOG). Partial funding from the State’s Regional Early Action Planning Grant Program. \nCity of Blue Lake contact:\nAmanda Mager\n(707) 668-5655\ncitymanager@bluelake.ca.gov  \nLearn more about why walkability matters by Dan Burden.
URL:https://bluelake.ca.gov/event/walk-with-dan-burden-in-our-neighborhoods-blue-lake-walk-audit/
LOCATION:Skinner Store\, 111 Greenwood Rd\, Blue Lake\, CA\, 95525\, United States
CATEGORIES:Blue Lake Events,Humboldt County Events
ATTACH;FMTTYPE=image/jpeg:https://bluelake.ca.gov/wp-content/uploads/2023/09/dan-burden-walkability-expert.jpg
END:VEVENT
BEGIN:VEVENT
DTSTART;TZID=America/Los_Angeles:20230724T180000
DTEND;TZID=America/Los_Angeles:20230724T200000
DTSTAMP:20260423T164710
CREATED:20230922T045010Z
LAST-MODIFIED:20230922T045010Z
UID:10002950-1690221600-1690228800@bluelake.ca.gov
SUMMARY:Walk With Dan Burden in Our Neighborhoods: Community Presentation
DESCRIPTION:Active transportation expert\, walkability innovator\, community well-being advocate\, walker\, and bicyclist. \nDan will present slides and recommendations on the walk audits in Arcata\, Eureka\, and McKinleyville. Doors open at 5:30 pm. \nSponsored by the City of Arcata\, City of Blue Lake\, City of Eureka\, County of Humboldt\, & Humboldt County Association of Governments (HCAOG). Partial funding from the State’s Regional Early Action Planning Grant Program. \nLearn more about why walkability matters by Dan Burden.
URL:https://bluelake.ca.gov/event/walk-with-dan-burden-in-our-neighborhoods-community-presentation/
LOCATION:Warfinger Building\, 1 Marina Way\, Eureka\, CA\, 95501\, United States
CATEGORIES:Humboldt County Events
ATTACH;FMTTYPE=image/jpeg:https://bluelake.ca.gov/wp-content/uploads/2023/09/dan-burden-walkability-expert.jpg
END:VEVENT
BEGIN:VEVENT
DTSTART;TZID=America/Los_Angeles:20230723T110000
DTEND;TZID=America/Los_Angeles:20230723T130000
DTSTAMP:20260423T164710
CREATED:20230922T044728Z
LAST-MODIFIED:20230922T044728Z
UID:10002949-1690110000-1690117200@bluelake.ca.gov
SUMMARY:Walk With Dan Burden in Our Neighborhoods: Eureka Walk Audit
DESCRIPTION:Active transportation expert\, walkability innovator\, community well-being advocate\, walker\, and bicyclist. \nMeet at Madaket Plaza (1 C Street). Debrief afterwards at Eureka City Hall. Focus: Old Town area \nSponsored by the City of Arcata\, City of Blue Lake\, City of Eureka\, County of Humboldt\, & Humboldt County Association of Governments (HCAOG). Partial funding from the State’s Regional Early Action Planning Grant Program. \nCity of Eureka contact:\nCristin Kenyon\n(707) 441-4160\nplanning@eurekaca.gov \nLearn more about why walkability matters by Dan Burden.
URL:https://bluelake.ca.gov/event/walk-with-dan-burden-in-our-neighborhoods-eueka-walk-audit/
LOCATION:Eureka\, CA\, Eureka\, CA\, 95501\, United States
CATEGORIES:Humboldt County Events
ATTACH;FMTTYPE=image/jpeg:https://bluelake.ca.gov/wp-content/uploads/2023/09/dan-burden-walkability-expert.jpg
END:VEVENT
BEGIN:VEVENT
DTSTART;TZID=America/Los_Angeles:20230722T130000
DTEND;TZID=America/Los_Angeles:20230722T150000
DTSTAMP:20260423T164710
CREATED:20230922T044401Z
LAST-MODIFIED:20230922T044759Z
UID:10002948-1690030800-1690038000@bluelake.ca.gov
SUMMARY:Walk With Dan Burden in Our Neighborhoods: McKinleyville Walk Audit
DESCRIPTION:Active transportation expert\, walkability innovator\, community well-being advocate\, walker\, and bicyclist. \nStarting and ending at the Pavilion\, in Pierson Park\, 1608 Pickett Road\, with a focus on Central Ave. \nSponsored by the City of Arcata\, City of Blue Lake\, City of Eureka\, County of Humboldt\, & Humboldt County Association of Governments (HCAOG). Partial funding from the State’s Regional Early Action Planning Grant Program. \nCounty of Humboldt-Planning & Building contact:\nJacob Dunn\n(707) 445-7541\nJDunn@co.humboldt.ca.us \nLearn more about why walkability matters by Dan Burden.
URL:https://bluelake.ca.gov/event/walk-with-dan-burden-in-our-neighborhoods-mckinleyville-walk-audit/
LOCATION:McKinleyville\, CA\, McKinleyville\, CA\, 95519\, United States
CATEGORIES:Humboldt County Events
ATTACH;FMTTYPE=image/jpeg:https://bluelake.ca.gov/wp-content/uploads/2023/09/dan-burden-walkability-expert.jpg
END:VEVENT
BEGIN:VEVENT
DTSTART;TZID=America/Los_Angeles:20230722T100000
DTEND;TZID=America/Los_Angeles:20230722T120000
DTSTAMP:20260423T164710
CREATED:20230922T044123Z
LAST-MODIFIED:20230922T044750Z
UID:10002947-1690020000-1690027200@bluelake.ca.gov
SUMMARY:Walk With Dan Burden in Our Neighborhoods: Arcata Walk Audit
DESCRIPTION:Active transportation expert\, walkability innovator\, community well-being advocate\, walker\, and bicyclist. \nStarting at the corner of 9th and L Streets on the Bay Trail\, finishing with a debrief at the Arcata Playhouse (1251 9th Street)\, with a focus on K Street & 11th Street. \nSponsored by the City of Arcata\, City of Blue Lake\, City of Eureka\, County of Humboldt\, & Humboldt County Association of Governments (HCAOG). Partial funding from the State’s Regional Early Action Planning Grant Program. \nCity of Arcata contact:\nNetra Khatri\n(707) 825-2128\nnkhatri@cityofarcata.org \nLearn more about why walkability matters by Dan Burden.
URL:https://bluelake.ca.gov/event/walk-with-dan-burden-in-our-neighborhoods-arcata-walk-audit/
LOCATION:Arcata\, CA\, Arcata\, CA\, United States
CATEGORIES:Humboldt County Events
ATTACH;FMTTYPE=image/jpeg:https://bluelake.ca.gov/wp-content/uploads/2023/09/dan-burden-walkability-expert.jpg
END:VEVENT
END:VCALENDAR