BEGIN:VCALENDAR
VERSION:2.0
PRODID:-//City of Blue Lake - ECPv6.15.20//NONSGML v1.0//EN
CALSCALE:GREGORIAN
METHOD:PUBLISH
X-WR-CALNAME:City of Blue Lake
X-ORIGINAL-URL:https://bluelake.ca.gov
X-WR-CALDESC:Events for City of Blue Lake
REFRESH-INTERVAL;VALUE=DURATION:PT1H
X-Robots-Tag:noindex
X-PUBLISHED-TTL:PT1H
BEGIN:VTIMEZONE
TZID:America/Los_Angeles
BEGIN:DAYLIGHT
TZOFFSETFROM:-0800
TZOFFSETTO:-0700
TZNAME:PDT
DTSTART:20170312T100000
END:DAYLIGHT
BEGIN:STANDARD
TZOFFSETFROM:-0700
TZOFFSETTO:-0800
TZNAME:PST
DTSTART:20171105T090000
END:STANDARD
BEGIN:DAYLIGHT
TZOFFSETFROM:-0800
TZOFFSETTO:-0700
TZNAME:PDT
DTSTART:20180311T100000
END:DAYLIGHT
BEGIN:STANDARD
TZOFFSETFROM:-0700
TZOFFSETTO:-0800
TZNAME:PST
DTSTART:20181104T090000
END:STANDARD
BEGIN:DAYLIGHT
TZOFFSETFROM:-0800
TZOFFSETTO:-0700
TZNAME:PDT
DTSTART:20190310T100000
END:DAYLIGHT
BEGIN:STANDARD
TZOFFSETFROM:-0700
TZOFFSETTO:-0800
TZNAME:PST
DTSTART:20191103T090000
END:STANDARD
END:VTIMEZONE
BEGIN:VEVENT
DTSTART;TZID=America/Los_Angeles:20181102T183000
DTEND;TZID=America/Los_Angeles:20181102T213000
DTSTAMP:20260423T191011
CREATED:20181018T024309Z
LAST-MODIFIED:20181018T024320Z
UID:10001706-1541183400-1541194200@bluelake.ca.gov
SUMMARY:Public Skate
DESCRIPTION:Come to 321 S. Railroad Avenue every Fri & Sat night from 6:30-9:30pm for only a $5 admission\, which includes skates. We also offer Family Skate on Sun’s from 2-5pm\, and Adult Skate the 2nd Sun of each month from 6:30-9:30pm. See you at the rink! \nContact: Cameron Mull  668-5655  cmull@bluelake.ca.gov
URL:https://bluelake.ca.gov/event/public-skate-30/
LOCATION:CA
END:VEVENT
BEGIN:VEVENT
DTSTART;TZID=America/Los_Angeles:20181103T183000
DTEND;TZID=America/Los_Angeles:20181103T213000
DTSTAMP:20260423T191011
CREATED:20181018T024309Z
LAST-MODIFIED:20181018T024320Z
UID:10002137-1541269800-1541280600@bluelake.ca.gov
SUMMARY:Public Skate
DESCRIPTION:Come to 321 S. Railroad Avenue every Fri & Sat night from 6:30-9:30pm for only a $5 admission\, which includes skates. We also offer Family Skate on Sun’s from 2-5pm\, and Adult Skate the 2nd Sun of each month from 6:30-9:30pm. See you at the rink! \nContact: Cameron Mull  668-5655  cmull@bluelake.ca.gov
URL:https://bluelake.ca.gov/event/public-skate-31/
LOCATION:CA
END:VEVENT
BEGIN:VEVENT
DTSTART;TZID=America/Los_Angeles:20181104T090000
DTEND;TZID=America/Los_Angeles:20181104T110000
DTSTAMP:20260423T191011
CREATED:20181018T024310Z
LAST-MODIFIED:20181018T024320Z
UID:10002138-1541322000-1541329200@bluelake.ca.gov
SUMMARY:Pickleball
DESCRIPTION:
URL:https://bluelake.ca.gov/event/pickleball-61/
LOCATION:CA
END:VEVENT
BEGIN:VEVENT
DTSTART;TZID=America/Los_Angeles:20181104T140000
DTEND;TZID=America/Los_Angeles:20181104T170000
DTSTAMP:20260423T191011
CREATED:20181018T024310Z
LAST-MODIFIED:20181018T024320Z
UID:10002139-1541340000-1541350800@bluelake.ca.gov
SUMMARY:Family Skate
DESCRIPTION:Family Skate for all ages\, 2-5 p.m. \nContact: Cameron Mull  668-5655  cmull@bluelake.ca.gov
URL:https://bluelake.ca.gov/event/family-skate-16/
LOCATION:CA
END:VEVENT
BEGIN:VEVENT
DTSTART;VALUE=DATE:20181105
DTEND;VALUE=DATE:20181106
DTSTAMP:20260423T191011
CREATED:20240201T011713Z
LAST-MODIFIED:20240201T011713Z
UID:10004064-1541376000-1541462399@bluelake.ca.gov
SUMMARY:Planning Commission Special Meeting
DESCRIPTION:
URL:https://bluelake.ca.gov/event/planning-commission-special-meeting-6/
LOCATION:CA
CATEGORIES:Planning Commission Meeting
END:VEVENT
BEGIN:VEVENT
DTSTART;TZID=America/Los_Angeles:20181105T173000
DTEND;TZID=America/Los_Angeles:20181105T200000
DTSTAMP:20260423T191011
CREATED:20181018T024310Z
LAST-MODIFIED:20181018T024320Z
UID:10002140-1541439000-1541448000@bluelake.ca.gov
SUMMARY:Pickleball
DESCRIPTION:Drop in Pickleball costs $3. For more information\, see the parks and recreation page on the Blue Lake website – bluelake.ca.gov
URL:https://bluelake.ca.gov/event/pickleball-62/
LOCATION:CA
END:VEVENT
BEGIN:VEVENT
DTSTART;TZID=America/Los_Angeles:20181105T180000
DTEND;TZID=America/Los_Angeles:20181105T190000
DTSTAMP:20260423T191011
CREATED:20181018T024311Z
LAST-MODIFIED:20181018T024320Z
UID:10002141-1541440800-1541444400@bluelake.ca.gov
SUMMARY:Public Safety Commission
DESCRIPTION:The Public Safety Commission meets the 1st Monday of every month at 6 p.m.
URL:https://bluelake.ca.gov/event/public-safety-commission-4/
LOCATION:CA
END:VEVENT
BEGIN:VEVENT
DTSTART;TZID=America/Los_Angeles:20181106T130000
DTEND;TZID=America/Los_Angeles:20181106T150000
DTSTAMP:20260423T191011
CREATED:20181018T024311Z
LAST-MODIFIED:20181018T024320Z
UID:10002142-1541509200-1541516400@bluelake.ca.gov
SUMMARY:Pickleball
DESCRIPTION:
URL:https://bluelake.ca.gov/event/pickleball-63/
LOCATION:CA
END:VEVENT
BEGIN:VEVENT
DTSTART;TZID=America/Los_Angeles:20181106T153000
DTEND;TZID=America/Los_Angeles:20181106T163000
DTSTAMP:20260423T191011
CREATED:20181018T024311Z
LAST-MODIFIED:20181018T024321Z
UID:10002143-1541518200-1541521800@bluelake.ca.gov
SUMMARY:Economic Development Commission
DESCRIPTION:
URL:https://bluelake.ca.gov/event/economic-development-commission-4/
LOCATION:Skinner Store\, 111 Greenwood Rd\, Blue Lake\, CA\, 95525\, United States
END:VEVENT
BEGIN:VEVENT
DTSTART;TZID=America/Los_Angeles:20181106T180000
DTEND;TZID=America/Los_Angeles:20181106T200000
DTSTAMP:20260423T191011
CREATED:20181018T024312Z
LAST-MODIFIED:20181018T024321Z
UID:10002144-1541527200-1541534400@bluelake.ca.gov
SUMMARY:Drop-in Basketball
DESCRIPTION:Tuesdays & Thursdays 6-8pmCost $2 \nContact: Cameron Mull  668-5655  cmull@bluelake.ca.gov
URL:https://bluelake.ca.gov/event/drop-in-basketball-31/
LOCATION:CA
END:VEVENT
BEGIN:VEVENT
DTSTART;TZID=America/Los_Angeles:20181108T130000
DTEND;TZID=America/Los_Angeles:20181108T150000
DTSTAMP:20260423T191011
CREATED:20181018T024312Z
LAST-MODIFIED:20181018T024321Z
UID:10002145-1541682000-1541689200@bluelake.ca.gov
SUMMARY:Pickleball
DESCRIPTION:
URL:https://bluelake.ca.gov/event/pickleball-64/
LOCATION:CA
END:VEVENT
BEGIN:VEVENT
DTSTART;TZID=America/Los_Angeles:20181108T180000
DTEND;TZID=America/Los_Angeles:20181108T200000
DTSTAMP:20260423T191011
CREATED:20181018T024312Z
LAST-MODIFIED:20181018T024321Z
UID:10002146-1541700000-1541707200@bluelake.ca.gov
SUMMARY:Drop-in Basketball
DESCRIPTION:Tuesdays & Thursdays 6-8pmCost $2 \nContact: Cameron Mull  668-5655  cmull@bluelake.ca.gov
URL:https://bluelake.ca.gov/event/drop-in-basketball-32/
LOCATION:CA
END:VEVENT
BEGIN:VEVENT
DTSTART;TZID=America/Los_Angeles:20181109T183000
DTEND;TZID=America/Los_Angeles:20181109T213000
DTSTAMP:20260423T191011
CREATED:20181018T024313Z
LAST-MODIFIED:20181109T113007Z
UID:10001707-1541788200-1541799000@bluelake.ca.gov
SUMMARY:Public Skate
DESCRIPTION:Come to 321 S. Railroad Avenue every Fri & Sat night from 6:30-9:30pm for only a $5 admission\, which includes skates. We also offer Family Skate on Sun’s from 2-5pm\, and Adult Skate the 2nd Sun of each month from 6:30-9:30pm. See you at the rink! \nContact: Cameron Mull  668-5655  cmull@bluelake.ca.gov
URL:https://bluelake.ca.gov/event/public-skate-32/
LOCATION:CA
END:VEVENT
BEGIN:VEVENT
DTSTART;TZID=America/Los_Angeles:20181110T183000
DTEND;TZID=America/Los_Angeles:20181110T213000
DTSTAMP:20260423T191011
CREATED:20181018T024313Z
LAST-MODIFIED:20181111T075903Z
UID:10001708-1541874600-1541885400@bluelake.ca.gov
SUMMARY:Public Skate
DESCRIPTION:Come to 321 S. Railroad Avenue every Fri & Sat night from 6:30-9:30pm for only a $5 admission\, which includes skates. We also offer Family Skate on Sun’s from 2-5pm\, and Adult Skate the 2nd Sun of each month from 6:30-9:30pm. See you at the rink! \nContact: Cameron Mull  668-5655  cmull@bluelake.ca.gov
URL:https://bluelake.ca.gov/event/public-skate-33/
LOCATION:CA
END:VEVENT
BEGIN:VEVENT
DTSTART;TZID=America/Los_Angeles:20181111T090000
DTEND;TZID=America/Los_Angeles:20181111T110000
DTSTAMP:20260423T191011
CREATED:20181018T024313Z
LAST-MODIFIED:20181111T075904Z
UID:10001709-1541926800-1541934000@bluelake.ca.gov
SUMMARY:Pickleball
DESCRIPTION:
URL:https://bluelake.ca.gov/event/pickleball-65/
LOCATION:CA
END:VEVENT
BEGIN:VEVENT
DTSTART;TZID=America/Los_Angeles:20181111T140000
DTEND;TZID=America/Los_Angeles:20181111T170000
DTSTAMP:20260423T191011
CREATED:20181018T024314Z
LAST-MODIFIED:20181111T075904Z
UID:10001710-1541944800-1541955600@bluelake.ca.gov
SUMMARY:Family Skate
DESCRIPTION:Family Skate for all ages\, 2-5 p.m. \nContact: Cameron Mull  668-5655  cmull@bluelake.ca.gov
URL:https://bluelake.ca.gov/event/family-skate-17/
LOCATION:CA
END:VEVENT
BEGIN:VEVENT
DTSTART;TZID=America/Los_Angeles:20181111T183000
DTEND;TZID=America/Los_Angeles:20181111T213000
DTSTAMP:20260423T191011
CREATED:20181018T024314Z
LAST-MODIFIED:20181111T075904Z
UID:10001711-1541961000-1541971800@bluelake.ca.gov
SUMMARY:Adult Skate
DESCRIPTION:Adult Skate: Every Second Sunday Night of the Month: Adults 18 & over come out to Blue Lake skate to “old school” tunes. Join in the fun from 6:30-9:30 p.m. Admission (includes skate rental) is $5.00\, includes skate rental.
URL:https://bluelake.ca.gov/event/adult-skate-5/
LOCATION:CA
END:VEVENT
BEGIN:VEVENT
DTSTART;VALUE=DATE:20181112
DTEND;VALUE=DATE:20181113
DTSTAMP:20260423T191011
CREATED:20181109T113008Z
LAST-MODIFIED:20181111T075904Z
UID:10002149-1541980800-1542067199@bluelake.ca.gov
SUMMARY:City Holiday - City Hall Closed
DESCRIPTION:
URL:https://bluelake.ca.gov/event/city-holiday-city-hall-closed/
LOCATION:CA
END:VEVENT
BEGIN:VEVENT
DTSTART;TZID=America/Los_Angeles:20181112T173000
DTEND;TZID=America/Los_Angeles:20181112T200000
DTSTAMP:20260423T191011
CREATED:20181018T024314Z
LAST-MODIFIED:20181111T075904Z
UID:10001712-1542043800-1542052800@bluelake.ca.gov
SUMMARY:Pickleball
DESCRIPTION:Drop in Pickleball costs $3. For more information\, see the parks and recreation page on the Blue Lake website – bluelake.ca.gov
URL:https://bluelake.ca.gov/event/pickleball-66/
LOCATION:CA
END:VEVENT
BEGIN:VEVENT
DTSTART;TZID=America/Los_Angeles:20181113T130000
DTEND;TZID=America/Los_Angeles:20181113T150000
DTSTAMP:20260423T191011
CREATED:20181018T024315Z
LAST-MODIFIED:20181114T001144Z
UID:10001713-1542114000-1542121200@bluelake.ca.gov
SUMMARY:Pickleball
DESCRIPTION:
URL:https://bluelake.ca.gov/event/pickleball-67/
LOCATION:CA
END:VEVENT
BEGIN:VEVENT
DTSTART;TZID=America/Los_Angeles:20181113T180000
DTEND;TZID=America/Los_Angeles:20181113T200000
DTSTAMP:20260423T191011
CREATED:20181018T024315Z
LAST-MODIFIED:20181114T001144Z
UID:10001714-1542132000-1542139200@bluelake.ca.gov
SUMMARY:Drop-in Basketball
DESCRIPTION:Tuesdays & Thursdays 6-8pmCost $2 \nContact: Cameron Mull  668-5655  cmull@bluelake.ca.gov
URL:https://bluelake.ca.gov/event/drop-in-basketball-33/
LOCATION:CA
END:VEVENT
BEGIN:VEVENT
DTSTART;TZID=America/Los_Angeles:20181113T190000
DTEND;TZID=America/Los_Angeles:20181113T213000
DTSTAMP:20260423T191011
CREATED:20181018T024315Z
LAST-MODIFIED:20181114T001144Z
UID:10001715-1542135600-1542144600@bluelake.ca.gov
SUMMARY:City Council
DESCRIPTION:The City Council meets the 2nd and 4th Tuesday of every month at 7 p.m.
URL:https://bluelake.ca.gov/event/city-council-5/
LOCATION:CA
END:VEVENT
BEGIN:VEVENT
DTSTART;TZID=America/Los_Angeles:20181115T130000
DTEND;TZID=America/Los_Angeles:20181115T150000
DTSTAMP:20260423T191011
CREATED:20181018T024316Z
LAST-MODIFIED:20181115T055155Z
UID:10001716-1542286800-1542294000@bluelake.ca.gov
SUMMARY:Pickleball
DESCRIPTION:
URL:https://bluelake.ca.gov/event/pickleball-68/
LOCATION:CA
END:VEVENT
BEGIN:VEVENT
DTSTART;TZID=America/Los_Angeles:20181115T180000
DTEND;TZID=America/Los_Angeles:20181115T200000
DTSTAMP:20260423T191011
CREATED:20181018T024316Z
LAST-MODIFIED:20181115T055155Z
UID:10002147-1542304800-1542312000@bluelake.ca.gov
SUMMARY:Drop-in Basketball
DESCRIPTION:Tuesdays & Thursdays 6-8pmCost $2 \nContact: Cameron Mull  668-5655  cmull@bluelake.ca.gov
URL:https://bluelake.ca.gov/event/drop-in-basketball-34/
LOCATION:CA
END:VEVENT
BEGIN:VEVENT
DTSTART;TZID=America/Los_Angeles:20181116T183000
DTEND;TZID=America/Los_Angeles:20181116T213000
DTSTAMP:20260423T191011
CREATED:20181018T024316Z
LAST-MODIFIED:20181115T055155Z
UID:10002148-1542393000-1542403800@bluelake.ca.gov
SUMMARY:Public Skate
DESCRIPTION:Come to 321 S. Railroad Avenue every Fri & Sat night from 6:30-9:30pm for only a $5 admission\, which includes skates. We also offer Family Skate on Sun’s from 2-5pm\, and Adult Skate the 2nd Sun of each month from 6:30-9:30pm. See you at the rink! \nContact: Cameron Mull  668-5655  cmull@bluelake.ca.gov
URL:https://bluelake.ca.gov/event/public-skate-34/
LOCATION:CA
END:VEVENT
BEGIN:VEVENT
DTSTART;TZID=America/Los_Angeles:20181117T183000
DTEND;TZID=America/Los_Angeles:20181117T213000
DTSTAMP:20260423T191011
CREATED:20181109T113009Z
LAST-MODIFIED:20181117T111804Z
UID:10002150-1542479400-1542490200@bluelake.ca.gov
SUMMARY:Public Skate
DESCRIPTION:Come to 321 S. Railroad Avenue every Fri & Sat night from 6:30-9:30pm for only a $5 admission\, which includes skates. We also offer Family Skate on Sun’s from 2-5pm\, and Adult Skate the 2nd Sun of each month from 6:30-9:30pm. See you at the rink! \nContact: Cameron Mull  668-5655  cmull@bluelake.ca.gov
URL:https://bluelake.ca.gov/event/public-skate-35/
LOCATION:CA
END:VEVENT
BEGIN:VEVENT
DTSTART;TZID=America/Los_Angeles:20181118T090000
DTEND;TZID=America/Los_Angeles:20181118T110000
DTSTAMP:20260423T191011
CREATED:20181109T113010Z
LAST-MODIFIED:20181114T001145Z
UID:10002151-1542531600-1542538800@bluelake.ca.gov
SUMMARY:Pickleball
DESCRIPTION:
URL:https://bluelake.ca.gov/event/pickleball-69/
LOCATION:CA
END:VEVENT
BEGIN:VEVENT
DTSTART;TZID=America/Los_Angeles:20181118T140000
DTEND;TZID=America/Los_Angeles:20181118T170000
DTSTAMP:20260423T191011
CREATED:20181109T113010Z
LAST-MODIFIED:20181117T111804Z
UID:10002152-1542549600-1542560400@bluelake.ca.gov
SUMMARY:Family Skate
DESCRIPTION:Family Skate for all ages\, 2-5 p.m. \nContact: Cameron Mull  668-5655  cmull@bluelake.ca.gov
URL:https://bluelake.ca.gov/event/family-skate-18/
LOCATION:CA
END:VEVENT
BEGIN:VEVENT
DTSTART;TZID=America/Los_Angeles:20181119T173000
DTEND;TZID=America/Los_Angeles:20181119T200000
DTSTAMP:20260423T191011
CREATED:20181109T113010Z
LAST-MODIFIED:20181117T111804Z
UID:10002153-1542648600-1542657600@bluelake.ca.gov
SUMMARY:Pickleball
DESCRIPTION:Drop in Pickleball costs $3. For more information\, see the parks and recreation page on the Blue Lake website – bluelake.ca.gov
URL:https://bluelake.ca.gov/event/pickleball-70/
LOCATION:CA
END:VEVENT
BEGIN:VEVENT
DTSTART;TZID=America/Los_Angeles:20181119T190000
DTEND;TZID=America/Los_Angeles:20181119T200000
DTSTAMP:20260423T191011
CREATED:20181109T113011Z
LAST-MODIFIED:20181117T111805Z
UID:10002154-1542654000-1542657600@bluelake.ca.gov
SUMMARY:Planning Commission
DESCRIPTION:The Planning Commission meets the 3rd Monday of every month at 7 p.m.
URL:https://bluelake.ca.gov/event/planning-commission-4/
LOCATION:CA
END:VEVENT
END:VCALENDAR