BEGIN:VCALENDAR
VERSION:2.0
PRODID:-//City of Blue Lake - ECPv6.15.20//NONSGML v1.0//EN
CALSCALE:GREGORIAN
METHOD:PUBLISH
X-ORIGINAL-URL:https://bluelake.ca.gov
X-WR-CALDESC:Events for City of Blue Lake
REFRESH-INTERVAL;VALUE=DURATION:PT1H
X-Robots-Tag:noindex
X-PUBLISHED-TTL:PT1H
BEGIN:VTIMEZONE
TZID:America/Los_Angeles
BEGIN:DAYLIGHT
TZOFFSETFROM:-0800
TZOFFSETTO:-0700
TZNAME:PDT
DTSTART:20230312T100000
END:DAYLIGHT
BEGIN:STANDARD
TZOFFSETFROM:-0700
TZOFFSETTO:-0800
TZNAME:PST
DTSTART:20231105T090000
END:STANDARD
BEGIN:DAYLIGHT
TZOFFSETFROM:-0800
TZOFFSETTO:-0700
TZNAME:PDT
DTSTART:20240310T100000
END:DAYLIGHT
BEGIN:STANDARD
TZOFFSETFROM:-0700
TZOFFSETTO:-0800
TZNAME:PST
DTSTART:20241103T090000
END:STANDARD
BEGIN:DAYLIGHT
TZOFFSETFROM:-0800
TZOFFSETTO:-0700
TZNAME:PDT
DTSTART:20250309T100000
END:DAYLIGHT
BEGIN:STANDARD
TZOFFSETFROM:-0700
TZOFFSETTO:-0800
TZNAME:PST
DTSTART:20251102T090000
END:STANDARD
END:VTIMEZONE
BEGIN:VEVENT
DTSTART;TZID=America/Los_Angeles:20240401T190000
DTEND;TZID=America/Los_Angeles:20240401T200000
DTSTAMP:20260424T094939
CREATED:20240329T233431Z
LAST-MODIFIED:20260317T223118Z
UID:10004142-1711998000-1712001600@bluelake.ca.gov
SUMMARY:Public Safety Commission Meeting (Rescheduled)
DESCRIPTION:
URL:https://bluelake.ca.gov/event/public-safety-commission-meeting-30/
LOCATION:Skinner Store\, 111 Greenwood Rd\, Blue Lake\, CA\, 95525\, United States
CATEGORIES:Public Safety Commission Meeting
END:VEVENT
BEGIN:VEVENT
DTSTART;TZID=America/Los_Angeles:20240403T183000
DTEND;TZID=America/Los_Angeles:20240403T193000
DTSTAMP:20260424T094939
CREATED:20240401T011606Z
LAST-MODIFIED:20241001T193915Z
UID:10003153-1712169000-1712172600@bluelake.ca.gov
SUMMARY:Parks & Recreation Commission Meeting
DESCRIPTION:
URL:https://bluelake.ca.gov/event/parks-recreation-commission-meeting-17/
LOCATION:Skinner Store\, 111 Greenwood Rd\, Blue Lake\, CA\, 95525\, United States
CATEGORIES:Parks and Recreation Commission Meeting
END:VEVENT
BEGIN:VEVENT
DTSTART;TZID=America/Los_Angeles:20240408T190000
DTEND;TZID=America/Los_Angeles:20240408T203000
DTSTAMP:20260424T094939
CREATED:20240408T184315Z
LAST-MODIFIED:20260317T221503Z
UID:10004237-1712602800-1712608200@bluelake.ca.gov
SUMMARY:Public safety Commission Meeting
DESCRIPTION:
URL:https://bluelake.ca.gov/event/public-safety-commission-meeting-31/
CATEGORIES:Public Safety Commission Meeting
END:VEVENT
BEGIN:VEVENT
DTSTART;TZID=America/Los_Angeles:20240409T043000
DTEND;TZID=America/Los_Angeles:20240409T173000
DTSTAMP:20260424T094939
CREATED:20240409T160152Z
LAST-MODIFIED:20240409T160152Z
UID:10003090-1712637000-1712683800@bluelake.ca.gov
SUMMARY:Economic Development Commission Meeting-Cancelled
DESCRIPTION:
URL:https://bluelake.ca.gov/event/economic-development-commission-meeting-26/
LOCATION:Skinner Store\, 111 Greenwood Rd\, Blue Lake\, CA\, 95525\, United States
CATEGORIES:Economic Development Commission Meeting
END:VEVENT
BEGIN:VEVENT
DTSTART;TZID=America/Los_Angeles:20240409T183000
DTEND;TZID=America/Los_Angeles:20240409T203000
DTSTAMP:20260424T094939
CREATED:20240406T025214Z
LAST-MODIFIED:20260331T004542Z
UID:10004236-1712687400-1712694600@bluelake.ca.gov
SUMMARY:City Council Special Meeting
DESCRIPTION:
URL:https://bluelake.ca.gov/event/city-council-special-meeting-10/
LOCATION:Skinner Store\, 111 Greenwood Rd\, Blue Lake\, CA\, 95525\, United States
CATEGORIES:City Council Meeting
END:VEVENT
BEGIN:VEVENT
DTSTART;TZID=America/Los_Angeles:20240415T190000
DTEND;TZID=America/Los_Angeles:20240415T200000
DTSTAMP:20260424T094939
CREATED:20240415T161934Z
LAST-MODIFIED:20240415T161934Z
UID:10002732-1713207600-1713211200@bluelake.ca.gov
SUMMARY:Cancelled-Planning Commission Meeting
DESCRIPTION:
URL:https://bluelake.ca.gov/event/planning-commission-meeting-2-10/
CATEGORIES:Planning Commission Meeting
END:VEVENT
BEGIN:VEVENT
DTSTART;TZID=America/Los_Angeles:20240417T180000
DTEND;TZID=America/Los_Angeles:20240417T190000
DTSTAMP:20260424T094939
CREATED:20240416T224347Z
LAST-MODIFIED:20240416T224347Z
UID:10002964-1713376800-1713380400@bluelake.ca.gov
SUMMARY:Cancelled-Arts and Heritage Commission Meeting
DESCRIPTION:
URL:https://bluelake.ca.gov/event/arts-and-heritage-commission-meeting-14/
LOCATION:Prasch Hall\, 312 S Railroad Ave\, Blue Lake\, CA\, United States
CATEGORIES:Arts and Heritage Commission Meeting
GEO:40.882008;-123.991938
X-APPLE-STRUCTURED-LOCATION;VALUE=URI;X-ADDRESS=Prasch Hall 312 S Railroad Ave Blue Lake CA United States;X-APPLE-RADIUS=500;X-TITLE=312 S Railroad Ave:geo:-123.991938,40.882008
END:VEVENT
BEGIN:VEVENT
DTSTART;TZID=America/Los_Angeles:20240423T183000
DTEND;TZID=America/Los_Angeles:20240423T193000
DTSTAMP:20260424T094939
CREATED:20240419T234334Z
LAST-MODIFIED:20241004T193220Z
UID:10002892-1713897000-1713900600@bluelake.ca.gov
SUMMARY:City Council Meeting
DESCRIPTION:
URL:https://bluelake.ca.gov/event/city-council-meeting-32-28/
LOCATION:Skinner Store\, 111 Greenwood Rd\, Blue Lake\, CA\, 95525\, United States
CATEGORIES:City Council Meeting
END:VEVENT
END:VCALENDAR