BEGIN:VCALENDAR
VERSION:2.0
PRODID:-//City of Blue Lake - ECPv6.15.20//NONSGML v1.0//EN
CALSCALE:GREGORIAN
METHOD:PUBLISH
X-ORIGINAL-URL:https://bluelake.ca.gov
X-WR-CALDESC:Events for City of Blue Lake
REFRESH-INTERVAL;VALUE=DURATION:PT1H
X-Robots-Tag:noindex
X-PUBLISHED-TTL:PT1H
BEGIN:VTIMEZONE
TZID:America/Los_Angeles
BEGIN:DAYLIGHT
TZOFFSETFROM:-0800
TZOFFSETTO:-0700
TZNAME:PDT
DTSTART:20240310T100000
END:DAYLIGHT
BEGIN:STANDARD
TZOFFSETFROM:-0700
TZOFFSETTO:-0800
TZNAME:PST
DTSTART:20241103T090000
END:STANDARD
BEGIN:DAYLIGHT
TZOFFSETFROM:-0800
TZOFFSETTO:-0700
TZNAME:PDT
DTSTART:20250309T100000
END:DAYLIGHT
BEGIN:STANDARD
TZOFFSETFROM:-0700
TZOFFSETTO:-0800
TZNAME:PST
DTSTART:20251102T090000
END:STANDARD
BEGIN:DAYLIGHT
TZOFFSETFROM:-0800
TZOFFSETTO:-0700
TZNAME:PDT
DTSTART:20260308T100000
END:DAYLIGHT
BEGIN:STANDARD
TZOFFSETFROM:-0700
TZOFFSETTO:-0800
TZNAME:PST
DTSTART:20261101T090000
END:STANDARD
END:VTIMEZONE
BEGIN:VEVENT
DTSTART;TZID=America/Los_Angeles:20250106T190000
DTEND;TZID=America/Los_Angeles:20250106T200000
DTSTAMP:20260419T143228
CREATED:20241202T190722Z
LAST-MODIFIED:20250103T235313Z
UID:10004151-1736190000-1736193600@bluelake.ca.gov
SUMMARY:Public Safety Commission Meeting
DESCRIPTION:
URL:https://bluelake.ca.gov/event/public-safety-commission-meeting-40/
LOCATION:Skinner Store\, 111 Greenwood Rd\, Blue Lake\, CA\, 95525\, United States
CATEGORIES:Public Safety Commission Meeting
END:VEVENT
BEGIN:VEVENT
DTSTART;TZID=America/Los_Angeles:20250108T183000
DTEND;TZID=America/Los_Angeles:20250108T193000
DTSTAMP:20260419T143228
CREATED:20241230T195755Z
LAST-MODIFIED:20250103T183915Z
UID:10004578-1736361000-1736364600@bluelake.ca.gov
SUMMARY:Parks & Recreation Commission Meeting
DESCRIPTION:
URL:https://bluelake.ca.gov/event/parks-recreation-commission-meeting-21-5/
LOCATION:Skinner Store\, 111 Greenwood Rd\, Blue Lake\, CA\, 95525\, United States
CATEGORIES:Parks and Recreation Commission Meeting
END:VEVENT
BEGIN:VEVENT
DTSTART;TZID=America/Los_Angeles:20250111T110000
DTEND;TZID=America/Los_Angeles:20250111T130000
DTSTAMP:20260419T143228
CREATED:20250103T180849Z
LAST-MODIFIED:20250103T180907Z
UID:10004662-1736593200-1736600400@bluelake.ca.gov
SUMMARY:Question & Answer Session - City of Blue Lake Housing Element - Public Meeting
DESCRIPTION:  \nPlease join this Question & Answer Session regarding the City of Blue Lake Housing Element at the Mad River Grange on January 11th\, 2025 from 11am-1pm. This is a public meeting open to all interested community members.
URL:https://bluelake.ca.gov/event/question-answer-session-city-of-blue-lake-housing-element-public-meeting/
LOCATION:Mad River Grange\, 110 Hatchery Rd\, Blue Lake\, CA\, 95525\, United States
CATEGORIES:Blue Lake Events
END:VEVENT
BEGIN:VEVENT
DTSTART;TZID=America/Los_Angeles:20250113T183000
DTEND;TZID=America/Los_Angeles:20250113T200000
DTSTAMP:20260419T143228
CREATED:20250111T030412Z
LAST-MODIFIED:20250111T030412Z
UID:10004451-1736793000-1736798400@bluelake.ca.gov
SUMMARY:Arts and Heritage Commission Meeting
DESCRIPTION:
URL:https://bluelake.ca.gov/event/arts-and-heritage-commission-meeting-16-8/
LOCATION:Skinner Store\, 111 Greenwood Rd\, Blue Lake\, CA\, 95525\, United States
CATEGORIES:Arts and Heritage Commission Meeting
END:VEVENT
BEGIN:VEVENT
DTSTART;TZID=America/Los_Angeles:20250114T163000
DTEND;TZID=America/Los_Angeles:20250114T180000
DTSTAMP:20260419T143228
CREATED:20241206T180949Z
LAST-MODIFIED:20250912T051329Z
UID:10004269-1736872200-1736877600@bluelake.ca.gov
SUMMARY:Economic Development Commission Meeting
DESCRIPTION:
URL:https://bluelake.ca.gov/event/economic-development-commission-meeting-34/
LOCATION:Skinner Store\, 111 Greenwood Rd\, Blue Lake\, CA\, 95525\, United States
CATEGORIES:Economic Development Commission Meeting
END:VEVENT
BEGIN:VEVENT
DTSTART;TZID=America/Los_Angeles:20250114T183000
DTEND;TZID=America/Los_Angeles:20250114T213000
DTSTAMP:20260419T143228
CREATED:20241202T214105Z
LAST-MODIFIED:20251124T024642Z
UID:10002900-1736879400-1736890200@bluelake.ca.gov
SUMMARY:City Council Meeting
DESCRIPTION:
URL:https://bluelake.ca.gov/event/city-council-meeting-32-32/
LOCATION:Skinner Store\, 111 Greenwood Rd\, Blue Lake\, CA\, 95525\, United States
CATEGORIES:City Council Meeting
END:VEVENT
BEGIN:VEVENT
DTSTART;TZID=America/Los_Angeles:20250120T190000
DTEND;TZID=America/Los_Angeles:20250120T200000
DTSTAMP:20260419T143228
CREATED:20250117T185016Z
LAST-MODIFIED:20250117T185016Z
UID:10002741-1737399600-1737403200@bluelake.ca.gov
SUMMARY:Planning Commission Meeting
DESCRIPTION:
URL:https://bluelake.ca.gov/event/planning-commission-meeting-2-17/
CATEGORIES:Planning Commission Meeting
END:VEVENT
BEGIN:VEVENT
DTSTART;TZID=America/Los_Angeles:20250127T190000
DTEND;TZID=America/Los_Angeles:20250127T200000
DTSTAMP:20260419T143228
CREATED:20250117T185924Z
LAST-MODIFIED:20250125T003135Z
UID:10004665-1738004400-1738008000@bluelake.ca.gov
SUMMARY:Planning Commission Special Meeting
DESCRIPTION:
URL:https://bluelake.ca.gov/event/planning-commission-special-meeting-12/
LOCATION:Skinner Store\, 111 Greenwood Rd\, Blue Lake\, CA\, 95525\, United States
CATEGORIES:Planning Commission Meeting
END:VEVENT
BEGIN:VEVENT
DTSTART;TZID=America/Los_Angeles:20250128T183000
DTEND;TZID=America/Los_Angeles:20250128T193000
DTSTAMP:20260419T143228
CREATED:20250125T013209Z
LAST-MODIFIED:20250621T081710Z
UID:10002901-1738089000-1738092600@bluelake.ca.gov
SUMMARY:City Council Meeting
DESCRIPTION:
URL:https://bluelake.ca.gov/event/city-council-meeting-32-33/
LOCATION:Skinner Store\, 111 Greenwood Rd\, Blue Lake\, CA\, 95525\, United States
CATEGORIES:City Council Meeting
END:VEVENT
BEGIN:VEVENT
DTSTART;TZID=America/Los_Angeles:20250130T183000
DTEND;TZID=America/Los_Angeles:20250130T213000
DTSTAMP:20260419T143228
CREATED:20250129T192953Z
LAST-MODIFIED:20250621T081306Z
UID:10004666-1738261800-1738272600@bluelake.ca.gov
SUMMARY:Notice and Order of Adjournment of Special Meeting of the City Council
DESCRIPTION:
URL:https://bluelake.ca.gov/event/notice-and-order-of-adjournment-of-special-meeting-of-the-city-council/
CATEGORIES:City Council Meeting
END:VEVENT
END:VCALENDAR