BEGIN:VCALENDAR
VERSION:2.0
PRODID:-//City of Blue Lake - ECPv6.15.20//NONSGML v1.0//EN
CALSCALE:GREGORIAN
METHOD:PUBLISH
X-WR-CALNAME:City of Blue Lake
X-ORIGINAL-URL:https://bluelake.ca.gov
X-WR-CALDESC:Events for City of Blue Lake
REFRESH-INTERVAL;VALUE=DURATION:PT1H
X-Robots-Tag:noindex
X-PUBLISHED-TTL:PT1H
BEGIN:VTIMEZONE
TZID:America/Los_Angeles
BEGIN:DAYLIGHT
TZOFFSETFROM:-0800
TZOFFSETTO:-0700
TZNAME:PDT
DTSTART:20220313T100000
END:DAYLIGHT
BEGIN:STANDARD
TZOFFSETFROM:-0700
TZOFFSETTO:-0800
TZNAME:PST
DTSTART:20221106T090000
END:STANDARD
BEGIN:DAYLIGHT
TZOFFSETFROM:-0800
TZOFFSETTO:-0700
TZNAME:PDT
DTSTART:20230312T100000
END:DAYLIGHT
BEGIN:STANDARD
TZOFFSETFROM:-0700
TZOFFSETTO:-0800
TZNAME:PST
DTSTART:20231105T090000
END:STANDARD
BEGIN:DAYLIGHT
TZOFFSETFROM:-0800
TZOFFSETTO:-0700
TZNAME:PDT
DTSTART:20240310T100000
END:DAYLIGHT
BEGIN:STANDARD
TZOFFSETFROM:-0700
TZOFFSETTO:-0800
TZNAME:PST
DTSTART:20241103T090000
END:STANDARD
END:VTIMEZONE
BEGIN:VEVENT
DTSTART;TZID=America/Los_Angeles:20230918T190000
DTEND;TZID=America/Los_Angeles:20230918T200000
DTSTAMP:20260421T110653
CREATED:20230923T014439Z
LAST-MODIFIED:20230923T014440Z
UID:10002725-1695063600-1695067200@bluelake.ca.gov
SUMMARY:Planning Commission Meeting CANCELLED
DESCRIPTION:This meeting of the Planning Commission has been cancelled.
URL:https://bluelake.ca.gov/event/planning-commission-meeting-2-3/
CATEGORIES:Planning Commission Meeting
END:VEVENT
BEGIN:VEVENT
DTSTART;TZID=America/Los_Angeles:20230920T180000
DTEND;TZID=America/Los_Angeles:20230920T190000
DTSTAMP:20260421T110653
CREATED:20230922T053212Z
LAST-MODIFIED:20240515T220759Z
UID:10002957-1695232800-1695236400@bluelake.ca.gov
SUMMARY:Arts and Heritage Commission Meeting
DESCRIPTION:
URL:https://bluelake.ca.gov/event/arts-and-heritage-commission-meeting/2023-09-20/
LOCATION:Skinner Store\, 111 Greenwood Rd\, Blue Lake\, CA\, 95525\, United States
CATEGORIES:Arts and Heritage Commission Meeting
END:VEVENT
BEGIN:VEVENT
DTSTART;TZID=America/Los_Angeles:20230922T180000
DTEND;TZID=America/Los_Angeles:20230922T210000
DTSTAMP:20260421T110653
CREATED:20230923T013140Z
LAST-MODIFIED:20230923T013140Z
UID:10003818-1695405600-1695416400@bluelake.ca.gov
SUMMARY:Green & Gold Night (Cal-Poly Humboldt)
DESCRIPTION:
URL:https://bluelake.ca.gov/event/green-gold-night-cal-poly-humboldt/
CATEGORIES:Blue Lake Roller Rink
END:VEVENT
BEGIN:VEVENT
DTSTART;TZID=America/Los_Angeles:20230923T180000
DTEND;TZID=America/Los_Angeles:20230923T210000
DTSTAMP:20260421T110653
CREATED:20230923T012751Z
LAST-MODIFIED:20230923T012751Z
UID:10003814-1695492000-1695502800@bluelake.ca.gov
SUMMARY:Public Skate
DESCRIPTION:Welcome back students! Enjoy $5 admission all month! \n$5 Entry w/Student ID or colors \n$7 Regular Admission \nPrice includes skates
URL:https://bluelake.ca.gov/event/public-skate-235/2023-09-23/
LOCATION:Prasch Hall\, 312 S Railroad Ave\, Blue Lake\, CA\, United States
CATEGORIES:Blue Lake Roller Rink
GEO:40.882008;-123.991938
X-APPLE-STRUCTURED-LOCATION;VALUE=URI;X-ADDRESS=Prasch Hall 312 S Railroad Ave Blue Lake CA United States;X-APPLE-RADIUS=500;X-TITLE=312 S Railroad Ave:geo:-123.991938,40.882008
END:VEVENT
END:VCALENDAR